BEGIN:VCALENDAR
PRODID:-//eluceo/ical//2.0/EN
VERSION:2.0
CALSCALE:GREGORIAN
BEGIN:VEVENT
UID:47c642e9fea922d7151965f8bc8225b4
DTSTAMP:20260421T093403Z
SUMMARY:DEUKO 2022 IN DORTMUND
DESCRIPTION:Sitio web: https://deuko.rotaract.de/#
URL:https://rotaract.ch/es/agenda/show/133994
DTSTART;TZID=Europe/Zurich:20220318T120000
DTEND;TZID=Europe/Zurich:20220320T140000
LOCATION:Dortmund\, Germany
CATEGORIES:Rotaract
END:VEVENT
BEGIN:VTIMEZONE
TZID:Europe/Zurich
BEGIN:STANDARD
DTSTART:20220318T120000
TZNAME:CET
TZOFFSETTO:+0100
TZOFFSETFROM:+0100
END:STANDARD
END:VTIMEZONE
END:VCALENDAR
