BEGIN:VCALENDAR
PRODID:-//eluceo/ical//2.0/EN
VERSION:2.0
CALSCALE:GREGORIAN
BEGIN:VEVENT
UID:c8bdb6cf344d763fa448f2096dd94514
DTSTAMP:20260420T084110Z
SUMMARY:PM Genève
DESCRIPTION:La partie officielle aura lieu à la Société de Lecture de Ge
 nève.\nMagnique lieu qui se situe dans la vieille ville de Genève.\nAdre
 sse : Société de Lecture\, Grand'Rue 11\, 1204 Genève\n\n\n16:30 Suite 
 à la partie officielle\, nous prendrons le bateau pour faire un court tr
 ajet d'une rive à l'autre afin de nous rendre au Bains des Pâquis où no
 us aurons la chance d'entendre des contes racontés par Céline Chanal\, m
 embre du RAC Genève\, tout en prenant un apéritif bien mérité au bord 
 de l'eau.\nAdresse: Le Bain des Pâquis\n\n\n19:00 Pour clôturer cette jo
 urnée bien remplie\, nous aurons le plaisir de déguster un très bon rep
 as dans un lieu tout à fait charmant\, à savoir Le Bain des Pâquis (mê
 me lieu que la partie récréative)\nAdresse: Le Bain des Pâquis\n\n*** F
 eel free to bring your bathing suit and your sunglasses \;) ***\nSitio web
 : http://www.societe-de-lecture.ch
URL:https://rotaract.ch/es/agenda/show/120572
DTSTART;TZID=Europe/Zurich:20150530T124500
DTEND;TZID=Europe/Zurich:20150530T124500
LOCATION:Société de Lecture / Le Bain des Pâquis
CATEGORIES:Rotaract
END:VEVENT
BEGIN:VTIMEZONE
TZID:Europe/Zurich
BEGIN:DAYLIGHT
DTSTART:20150530T124500
TZNAME:CEST
TZOFFSETTO:+0200
TZOFFSETFROM:+0200
END:DAYLIGHT
END:VTIMEZONE
END:VCALENDAR
